BEGIN:VCALENDAR
VERSION:2.0
PRODID:-//wp-events-plugin.com//7.0.5//EN
TZID:Europe/Prague
X-WR-TIMEZONE:Europe/Prague
BEGIN:VEVENT
UID:107@vus-uk.cz
DTSTART;TZID=Europe/Prague:20150605T190000
DTEND;TZID=Europe/Prague:20150605T210000
DTSTAMP:20150312T232754Z
URL:https://www.vus-uk.cz/koncert/fsu-jihlava-2015/
SUMMARY:FSU Jihlava 2015
DESCRIPTION:Vystoupení na Festivalu sborového umění Jihlava 2015.
LOCATION:Kostel Povýšení sv. Kříže\, Křížová 2a\, Jihlava\, Česk
 á republika
X-APPLE-STRUCTURED-LOCATION;VALUE=URI;X-ADDRESS=Křížová 2a\, Jihlava\, 
 Česká republika;X-APPLE-RADIUS=100;X-TITLE=Kostel Povýšení sv. Kří
 že:geo:0,0
END:VEVENT
BEGIN:VTIMEZONE
TZID:Europe/Prague
X-LIC-LOCATION:Europe/Prague
BEGIN:DAYLIGHT
DTSTART:20150329T030000
TZOFFSETFROM:+0100
TZOFFSETTO:+0200
TZNAME:CEST
END:DAYLIGHT
END:VTIMEZONE
END:VCALENDAR