BEGIN:VCALENDAR
VERSION:2.0
PRODID:-//wp-events-plugin.com//7.0.5//EN
TZID:Europe/Prague
X-WR-TIMEZONE:Europe/Prague
BEGIN:VEVENT
UID:172@vus-uk.cz
DTSTART;TZID=Europe/Prague:20190404T193000
DTEND;TZID=Europe/Prague:20190404T210000
DTSTAMP:20190404T223819Z
URL:https://www.vus-uk.cz/koncert/koncert-k-nedozitym-90-petra-ebena/
SUMMARY:Koncert k nedožitým 90. Petra Ebena
DESCRIPTION:22. ledna 2019 by se dožil 90. let jeden z našich nejvýznamn
 ějších skladatelů 20. století\, Petr Eben.\n\nRádi připomeneme jeho
  památku samostatným koncertem\, na němž zazpíváme výběr z jeho sb
 orových skladeb duchovních i světských.\n\n\n\n\n\n\n\nProgram:\n\nPro
 prium festivum monasteriense (1993)\npro smíšený sbor a varhany\n\nUbi 
 caritas et amor (1964)\nvelikonoční antifona pro smíšený sbor\n\nMiss
 a Adventus et Quadragesimae (1952)\npro mužský sbor a varhany\n\nLáska 
 a smrt (1959) - výběr\ncyklus sborů na lidové texty\n\nÚčinkují:\n\
 nJan Kalfus - varhany\nVysokoškolský umělecký soubor UK\n\nřídí Jak
 ub Zicha\n\nvstupné dobrovolné\n\nke stažení program koncertu\n\n\n\n\
 n\n\n
LOCATION:kostel sv. Martina ve zdi\, Martinská 8\, Praha 1\, Česká repub
 lika
X-APPLE-STRUCTURED-LOCATION;VALUE=URI;X-ADDRESS=Martinská 8\, Praha 1\, Č
 eská republika;X-APPLE-RADIUS=100;X-TITLE=kostel sv. Martina ve zdi:geo:0
 ,0
END:VEVENT
BEGIN:VTIMEZONE
TZID:Europe/Prague
X-LIC-LOCATION:Europe/Prague
BEGIN:DAYLIGHT
DTSTART:20190331T030000
TZOFFSETFROM:+0100
TZOFFSETTO:+0200
TZNAME:CEST
END:DAYLIGHT
END:VTIMEZONE
END:VCALENDAR