BEGIN:VCALENDAR
VERSION:2.0
PRODID:-//wp-events-plugin.com//7.0.5//EN
TZID:Europe/Prague
X-WR-TIMEZONE:Europe/Prague
BEGIN:VEVENT
UID:109@vus-uk.cz
DTSTART;TZID=Europe/Prague:20151102T170000
DTEND;TZID=Europe/Prague:20151102T183000
DTSTAMP:20151104T075728Z
URL:https://www.vus-uk.cz/koncert/w-a-mozart-requiem-7/
SUMMARY:W. A. Mozart: Requiem
DESCRIPTION:Slavnostní bohoslužba k uctění „Památky všech věrných
  zemřelých“ – Dušičky v bazilice sv. Jakuba na Starém Městě.\n\
 n\n\nÚčinkují:\nJana Bínová Koucká - soprán\nKarolína Bubleová Be
 rková - alt\nMartin Slavík - tenor\nJosef Kovačič - bas\n\nVladimír J
 elínek - varhany\n\nVysokoškolský umělecký soubor UK Praha\nSvatojaku
 bský sbor a orchestr\n\nřídí Jakub Zicha
LOCATION:bazilika sv. Jakuba\, Malá Štupartská 6\, Praha 1\, Česká rep
 ublika
GEO:50.088566;14.42454870000006
X-APPLE-STRUCTURED-LOCATION;VALUE=URI;X-ADDRESS=Malá Štupartská 6\, Prah
 a 1\, Česká republika;X-APPLE-RADIUS=100;X-TITLE=bazilika sv. Jakuba:geo
 :50.088566,14.42454870000006
END:VEVENT
BEGIN:VTIMEZONE
TZID:Europe/Prague
X-LIC-LOCATION:Europe/Prague
BEGIN:STANDARD
DTSTART:20151025T020000
TZOFFSETFROM:+0200
TZOFFSETTO:+0100
TZNAME:CET
END:STANDARD
END:VTIMEZONE
END:VCALENDAR